BEGIN:VCALENDAR
VERSION:2.0
PRODID:-//B&uuml;rgerinitiative Burgholzhof - ECPv6.15.20//NONSGML v1.0//EN
CALSCALE:GREGORIAN
METHOD:PUBLISH
X-ORIGINAL-URL:https://initiative-burgholzhof.de
X-WR-CALDESC:Veranstaltungen für B&uuml;rgerinitiative Burgholzhof
REFRESH-INTERVAL;VALUE=DURATION:PT1H
X-Robots-Tag:noindex
X-PUBLISHED-TTL:PT1H
BEGIN:VTIMEZONE
TZID:Europe/Berlin
BEGIN:DAYLIGHT
TZOFFSETFROM:+0100
TZOFFSETTO:+0200
TZNAME:CEST
DTSTART:20250330T010000
END:DAYLIGHT
BEGIN:STANDARD
TZOFFSETFROM:+0200
TZOFFSETTO:+0100
TZNAME:CET
DTSTART:20251026T010000
END:STANDARD
BEGIN:DAYLIGHT
TZOFFSETFROM:+0100
TZOFFSETTO:+0200
TZNAME:CEST
DTSTART:20260329T010000
END:DAYLIGHT
BEGIN:STANDARD
TZOFFSETFROM:+0200
TZOFFSETTO:+0100
TZNAME:CET
DTSTART:20261025T010000
END:STANDARD
BEGIN:DAYLIGHT
TZOFFSETFROM:+0100
TZOFFSETTO:+0200
TZNAME:CEST
DTSTART:20270328T010000
END:DAYLIGHT
BEGIN:STANDARD
TZOFFSETFROM:+0200
TZOFFSETTO:+0100
TZNAME:CET
DTSTART:20271031T010000
END:STANDARD
END:VTIMEZONE
BEGIN:VEVENT
DTSTART;TZID=Europe/Berlin:20260110T173000
DTEND;TZID=Europe/Berlin:20260110T183000
DTSTAMP:20260421T134000
CREATED:20260122T220108Z
LAST-MODIFIED:20260122T220108Z
UID:2255-1768066200-1768069800@initiative-burgholzhof.de
SUMMARY:Theater Tredeschin: Der gestiefelte Kater
DESCRIPTION:
URL:https://initiative-burgholzhof.de/event/theater-tredeschin-der-gestiefelte-kater/
LOCATION:Ökumenisches Zentrum\, Mahatma-Gandhi-Straße 7
END:VEVENT
BEGIN:VEVENT
DTSTART;TZID=Europe/Berlin:20260110T173000
DTEND;TZID=Europe/Berlin:20260110T190000
DTSTAMP:20260421T134000
CREATED:20251209T143237Z
LAST-MODIFIED:20251215T205403Z
UID:2081-1768066200-1768071600@initiative-burgholzhof.de
SUMMARY:Kindertheaterspiel/Märchen „Der gestiefelte Kater“ Theater Tredeschin (Michael Kunze mit Team)
DESCRIPTION:Vier wandlugsfähige Schauspieler präsentieren das beliebte Kindertheaterspiel/Märchen „Der gestiefelte Kater“. \n\nNichts als einen Kater besitzt Hans. Doch dieser erweist sich als sein unverhofftes Glück. Er verhilft mit Witz und Wagemut dem armen Burschen\, die Liebe der Prinzessin und die Freundschaft des Königs zu gewinnen. \n  \nFür Menschen jeden Alters \nEintritt frei\, Spende erbeten \n\n\n  \nSa\, 10.1. 2026 um 17.30 Uhr im Ökumenisches Zentrum BHH\, Mahatma-Gandhi-Str. 7\, 70376 Stuttgart
URL:https://initiative-burgholzhof.de/event/kindertheaterspiel-maerchen-der-gestiefelte-kater-theater-tredeschin-michael-kunze-mit-team/
LOCATION:Ökumenisches Zentrum Burgholzhof\, Mahatma-Gandhi-Str. 7\, Stuttgart\, Baden-Württemberg\, 70376\, Germany
CATEGORIES:Kultur
ATTACH;FMTTYPE=image/jpeg:https://initiative-burgholzhof.de/wp-content/uploads/2025/12/Poster_Gestiefelte_Kater_OeKZ.jpg
END:VEVENT
END:VCALENDAR