BEGIN:VCALENDAR
VERSION:2.0
PRODID:-//B&uuml;rgerinitiative Burgholzhof - ECPv6.15.20//NONSGML v1.0//EN
CALSCALE:GREGORIAN
METHOD:PUBLISH
X-WR-CALNAME:B&uuml;rgerinitiative Burgholzhof
X-ORIGINAL-URL:https://initiative-burgholzhof.de
X-WR-CALDESC:Veranstaltungen für B&uuml;rgerinitiative Burgholzhof
REFRESH-INTERVAL;VALUE=DURATION:PT1H
X-Robots-Tag:noindex
X-PUBLISHED-TTL:PT1H
BEGIN:VTIMEZONE
TZID:Europe/Berlin
BEGIN:DAYLIGHT
TZOFFSETFROM:+0100
TZOFFSETTO:+0200
TZNAME:CEST
DTSTART:20240331T010000
END:DAYLIGHT
BEGIN:STANDARD
TZOFFSETFROM:+0200
TZOFFSETTO:+0100
TZNAME:CET
DTSTART:20241027T010000
END:STANDARD
BEGIN:DAYLIGHT
TZOFFSETFROM:+0100
TZOFFSETTO:+0200
TZNAME:CEST
DTSTART:20250330T010000
END:DAYLIGHT
BEGIN:STANDARD
TZOFFSETFROM:+0200
TZOFFSETTO:+0100
TZNAME:CET
DTSTART:20251026T010000
END:STANDARD
BEGIN:DAYLIGHT
TZOFFSETFROM:+0100
TZOFFSETTO:+0200
TZNAME:CEST
DTSTART:20260329T010000
END:DAYLIGHT
BEGIN:STANDARD
TZOFFSETFROM:+0200
TZOFFSETTO:+0100
TZNAME:CET
DTSTART:20261025T010000
END:STANDARD
END:VTIMEZONE
BEGIN:VEVENT
DTSTART;TZID=Europe/Berlin:20251201T170000
DTEND;TZID=Europe/Berlin:20251201T180000
DTSTAMP:20260421T133841
CREATED:20251125T143048Z
LAST-MODIFIED:20251125T150808Z
UID:2060-1764608400-1764612000@initiative-burgholzhof.de
SUMMARY:Eröffnung "Advent auf dem Burgholzhof" mit Singen\, Geschichten & Punsch
DESCRIPTION:
URL:https://initiative-burgholzhof.de/event/eroeffnung-advent-auf-dem-burgholzhof-mit-singen-geschichten-punsch/
LOCATION:Ökumenisches Zentrum\, Mahatma-Gandhi-Straße 7
ATTACH;FMTTYPE=image/jpeg:https://initiative-burgholzhof.de/wp-content/uploads/2025/11/Hochformat-25.11.2025-16.03.jpg
ORGANIZER;CN="%C3%96kumenisches Zentrum Burgholzhof":MAILTO:gemeindebuero.bad-cannstatt.steiggemeinde@elkw.de
END:VEVENT
BEGIN:VEVENT
DTSTART;TZID=Europe/Berlin:20251205T153000
DTEND;TZID=Europe/Berlin:20251205T180000
DTSTAMP:20260421T133841
CREATED:20250923T102027Z
LAST-MODIFIED:20260206T002704Z
UID:1948-1764948600-1764957600@initiative-burgholzhof.de
SUMMARY:🍰 Burgholzhof – Treff / Nachbarschaftscafé ☕
DESCRIPTION:Jeden Freitag ( wenn der Bücherbus kommt) \nin ungeraden Kalenderwochen öffnet \ndas Nachbarschaftscafé/der Burgholzhof-Treff im \nÖkumenischen Zentrum Burgholzhof \nvon 15:30 Uhr bis 18:00 Uhr. \nEs werden zum Kaffee leckere Kuchen und Torten angeboten. \nKuchenspenden sind immer herzlich willkommen. \nDer Burgholzhof-Treff/das Nachbarschaftscafé bietet eine hervorragende Möglichkeit\, Kontakte zu knüpfen und einen Austausch zwischen den Generationen zu ermöglichen. \nEs freut sich das Treffpunkt-Team
URL:https://initiative-burgholzhof.de/event/%f0%9f%8d%b0-burgholzhof-treff-nachbarschaftscafe-%e2%98%95-6/
LOCATION:Ökumenisches Zentrum Burgholzhof\, Mahatma-Gandhi-Str. 7\, Stuttgart\, Baden-Württemberg\, 70376\, Germany
CATEGORIES:Nachbarschaftscafé "Burgholzhof-Treff"
END:VEVENT
BEGIN:VEVENT
DTSTART;TZID=Europe/Berlin:20251207T150000
DTEND;TZID=Europe/Berlin:20251207T160000
DTSTAMP:20260421T133841
CREATED:20251125T153245Z
LAST-MODIFIED:20251125T153245Z
UID:2072-1765119600-1765123200@initiative-burgholzhof.de
SUMMARY:Nikolausgottesdienst
DESCRIPTION:
URL:https://initiative-burgholzhof.de/event/nikolausgottesdienst/
LOCATION:Ökumenisches Zentrum\, Mahatma-Gandhi-Straße 7
ATTACH;FMTTYPE=image/jpeg:https://initiative-burgholzhof.de/wp-content/uploads/2025/11/Nikolaus-mit-Bischofsstab-und-Sack.jpg
ORGANIZER;CN="%C3%96kumenisches Zentrum Burgholzhof":MAILTO:gemeindebuero.bad-cannstatt.steiggemeinde@elkw.de
END:VEVENT
BEGIN:VEVENT
DTSTART;TZID=Europe/Berlin:20251208T190000
DTEND;TZID=Europe/Berlin:20251208T210000
DTSTAMP:20260421T133841
CREATED:20250124T191202Z
LAST-MODIFIED:20250124T191202Z
UID:1343-1765220400-1765227600@initiative-burgholzhof.de
SUMMARY:Bürgertreff
DESCRIPTION:
URL:https://initiative-burgholzhof.de/event/buergertreff-10/
LOCATION:Bürgerhaus\, James-F.-Byrnes-Str. 37
END:VEVENT
BEGIN:VEVENT
DTSTART;TZID=Europe/Berlin:20251219T153000
DTEND;TZID=Europe/Berlin:20251219T180000
DTSTAMP:20260421T133841
CREATED:20250923T102433Z
LAST-MODIFIED:20251215T210936Z
UID:1950-1766158200-1766167200@initiative-burgholzhof.de
SUMMARY:🍰Nachbarschaftscafé „Burgholzhof-Treff“ mit Adventsaktion des Bücherbusses (16-17.30 Uhr)☕
DESCRIPTION:Jeden Freitag ( wenn der Bücherbus kommt) \nin ungeraden Kalenderwochen öffnet \ndas Nachbarschaftscafé „Burgholzhof-Treff“ im \nÖkumenischen Zentrum Burgholzhof \nvon 15:30 Uhr bis 18:00 Uhr. \nEs werden zum Kaffee leckere Kuchen und Torten angeboten. \nKuchenspenden sind immer herzlich willkommen. \nDer Burgholzhof-Treff/das Nachbarschaftscafé bietet eine hervorragende Möglichkeit\, Kontakte zu knüpfen und einen Austausch zwischen den Generationen zu ermöglichen. \nEs freut sich das Treffpunkt-Team
URL:https://initiative-burgholzhof.de/event/%f0%9f%8d%b0-burgholzhof-treff-nachbarschaftscafe-%e2%98%95-7/
LOCATION:Ökumenisches Zentrum Burgholzhof\, Mahatma-Gandhi-Str. 7\, Stuttgart\, Baden-Württemberg\, 70376\, Germany
CATEGORIES:Nachbarschaftscafé "Burgholzhof-Treff"
END:VEVENT
BEGIN:VEVENT
DTSTART;TZID=Europe/Berlin:20251224T163000
DTEND;TZID=Europe/Berlin:20251224T173000
DTSTAMP:20260421T133841
CREATED:20251125T151254Z
LAST-MODIFIED:20251125T151254Z
UID:2063-1766593800-1766597400@initiative-burgholzhof.de
SUMMARY:Ökumenische Krippenfeier für Klein und Groß
DESCRIPTION:
URL:https://initiative-burgholzhof.de/event/oekumenische-krippenfeier-fuer-klein-und-gross/
LOCATION:Ökumenisches Zentrum\, Mahatma-Gandhi-Straße 7
ATTACH;FMTTYPE=image/png:https://initiative-burgholzhof.de/wp-content/uploads/2025/11/Krippenbild.png
ORGANIZER;CN="%C3%96kumenisches Zentrum Burgholzhof":MAILTO:gemeindebuero.bad-cannstatt.steiggemeinde@elkw.de
END:VEVENT
END:VCALENDAR