BEGIN:VCALENDAR
VERSION:2.0
PRODID:-//B&uuml;rgerinitiative Burgholzhof - ECPv6.15.20//NONSGML v1.0//EN
CALSCALE:GREGORIAN
METHOD:PUBLISH
X-ORIGINAL-URL:https://initiative-burgholzhof.de
X-WR-CALDESC:Veranstaltungen für B&uuml;rgerinitiative Burgholzhof
REFRESH-INTERVAL;VALUE=DURATION:PT1H
X-Robots-Tag:noindex
X-PUBLISHED-TTL:PT1H
BEGIN:VTIMEZONE
TZID:Europe/Berlin
BEGIN:DAYLIGHT
TZOFFSETFROM:+0100
TZOFFSETTO:+0200
TZNAME:CEST
DTSTART:20250330T010000
END:DAYLIGHT
BEGIN:STANDARD
TZOFFSETFROM:+0200
TZOFFSETTO:+0100
TZNAME:CET
DTSTART:20251026T010000
END:STANDARD
BEGIN:DAYLIGHT
TZOFFSETFROM:+0100
TZOFFSETTO:+0200
TZNAME:CEST
DTSTART:20260329T010000
END:DAYLIGHT
BEGIN:STANDARD
TZOFFSETFROM:+0200
TZOFFSETTO:+0100
TZNAME:CET
DTSTART:20261025T010000
END:STANDARD
BEGIN:DAYLIGHT
TZOFFSETFROM:+0100
TZOFFSETTO:+0200
TZNAME:CEST
DTSTART:20270328T010000
END:DAYLIGHT
BEGIN:STANDARD
TZOFFSETFROM:+0200
TZOFFSETTO:+0100
TZNAME:CET
DTSTART:20271031T010000
END:STANDARD
END:VTIMEZONE
BEGIN:VEVENT
DTSTART;TZID=Europe/Berlin:20260506T180000
DTEND;TZID=Europe/Berlin:20260506T200000
DTSTAMP:20260419T140853
CREATED:20260129T195440Z
LAST-MODIFIED:20260129T195440Z
UID:2356-1778090400-1778097600@initiative-burgholzhof.de
SUMMARY:Tischtennis für alle
DESCRIPTION:jeden Mittwoch\nvon 18 bis 20 Uhr\nim Bürgerhaus\, James-F.-Byrnes-Str. 37\, EG\, Eingang A
URL:https://initiative-burgholzhof.de/event/tischtennis-fuer-alle-68/
LOCATION:Bürgerhaus\, James-F.-Byrnes-Str. 37
END:VEVENT
BEGIN:VEVENT
DTSTART;TZID=Europe/Berlin:20260508T153000
DTEND;TZID=Europe/Berlin:20260508T180000
DTSTAMP:20260419T140853
CREATED:20260129T191510Z
LAST-MODIFIED:20260206T001816Z
UID:2190-1778254200-1778263200@initiative-burgholzhof.de
SUMMARY:🍰 Nachbarschaftscafé "Burgholzhof-Treff"☕
DESCRIPTION:Schauen Sie doch einfach herein und genießen Sie die Zeit bei Kaffee/Tee und leckeren selbst gebackenen Kuchen. \nWann?\nAlle zwei Wochen freitags\n(in den ungeraden Wochen)\nvon 15:30 bis 18:00 Uhr \nWo?\nIm Ökumenischen Zentrum\,\nMahatma-Gandhi-Str. 7 \nDas Café freut sich auf\nIhren/Euren Besuch. \nSpenden sind stets willkommen. \n  \nin Zusammenarbeit mit dem Ökumenischen Zentrum Burgholzhof
URL:https://initiative-burgholzhof.de/event/%f0%9f%8d%b0-nachbarschaftscafe-burgholzhof-treff%e2%98%95-3/
LOCATION:Ökumenisches Zentrum Burgholzhof\, Mahatma-Gandhi-Str. 7\, Stuttgart\, Baden-Württemberg\, 70376\, Germany
CATEGORIES:Nachbarschaftscafé "Burgholzhof-Treff"
END:VEVENT
BEGIN:VEVENT
DTSTART;TZID=Europe/Berlin:20260511T190000
DTEND;TZID=Europe/Berlin:20260511T210000
DTSTAMP:20260419T140853
CREATED:20260122T204528Z
LAST-MODIFIED:20260122T204528Z
UID:2236-1778526000-1778533200@initiative-burgholzhof.de
SUMMARY:Bürgertreff
DESCRIPTION:
URL:https://initiative-burgholzhof.de/event/buergertreff-15/
LOCATION:Bürgerhaus\, James-F.-Byrnes-Str. 37
END:VEVENT
BEGIN:VEVENT
DTSTART;TZID=Europe/Berlin:20260513T180000
DTEND;TZID=Europe/Berlin:20260513T200000
DTSTAMP:20260419T140853
CREATED:20260129T195505Z
LAST-MODIFIED:20260129T195505Z
UID:2358-1778695200-1778702400@initiative-burgholzhof.de
SUMMARY:Tischtennis für alle
DESCRIPTION:jeden Mittwoch\nvon 18 bis 20 Uhr\nim Bürgerhaus\, James-F.-Byrnes-Str. 37\, EG\, Eingang A
URL:https://initiative-burgholzhof.de/event/tischtennis-fuer-alle-69/
LOCATION:Bürgerhaus\, James-F.-Byrnes-Str. 37
END:VEVENT
BEGIN:VEVENT
DTSTART;TZID=Europe/Berlin:20260520T180000
DTEND;TZID=Europe/Berlin:20260520T200000
DTSTAMP:20260419T140853
CREATED:20260129T195536Z
LAST-MODIFIED:20260129T195536Z
UID:2360-1779300000-1779307200@initiative-burgholzhof.de
SUMMARY:Tischtennis für alle
DESCRIPTION:jeden Mittwoch\nvon 18 bis 20 Uhr\nim Bürgerhaus\, James-F.-Byrnes-Str. 37\, EG\, Eingang A
URL:https://initiative-burgholzhof.de/event/tischtennis-fuer-alle-70/
LOCATION:Bürgerhaus\, James-F.-Byrnes-Str. 37
END:VEVENT
BEGIN:VEVENT
DTSTART;TZID=Europe/Berlin:20260522T153000
DTEND;TZID=Europe/Berlin:20260522T180000
DTSTAMP:20260419T140853
CREATED:20260129T191556Z
LAST-MODIFIED:20260206T001901Z
UID:2192-1779463800-1779472800@initiative-burgholzhof.de
SUMMARY:🍰 Nachbarschaftscafé "Burgholzhof-Treff"☕
DESCRIPTION:Schauen Sie doch einfach herein und genießen Sie die Zeit bei Kaffee/Tee und leckeren selbst gebackenen Kuchen. \nWann?\nAlle zwei Wochen freitags\n(in den ungeraden Wochen)\nvon 15:30 bis 18:00 Uhr \nWo?\nIm Ökumenischen Zentrum\,\nMahatma-Gandhi-Str. 7 \nDas Café freut sich auf\nIhren/Euren Besuch. \nSpenden sind stets willkommen. \n  \nin Zusammenarbeit mit dem Ökumenischen Zentrum Burgholzhof
URL:https://initiative-burgholzhof.de/event/%f0%9f%8d%b0-nachbarschaftscafe-burgholzhof-treff%e2%98%95-4/
LOCATION:Ökumenisches Zentrum Burgholzhof\, Mahatma-Gandhi-Str. 7\, Stuttgart\, Baden-Württemberg\, 70376\, Germany
CATEGORIES:Nachbarschaftscafé "Burgholzhof-Treff"
END:VEVENT
BEGIN:VEVENT
DTSTART;TZID=Europe/Berlin:20260527T180000
DTEND;TZID=Europe/Berlin:20260527T200000
DTSTAMP:20260419T140853
CREATED:20260129T195559Z
LAST-MODIFIED:20260129T195559Z
UID:2362-1779904800-1779912000@initiative-burgholzhof.de
SUMMARY:Tischtennis für alle
DESCRIPTION:jeden Mittwoch\nvon 18 bis 20 Uhr\nim Bürgerhaus\, James-F.-Byrnes-Str. 37\, EG\, Eingang A
URL:https://initiative-burgholzhof.de/event/tischtennis-fuer-alle-71/
LOCATION:Bürgerhaus\, James-F.-Byrnes-Str. 37
END:VEVENT
END:VCALENDAR