BEGIN:VCALENDAR
VERSION:2.0
PRODID:-//B&uuml;rgerinitiative Burgholzhof - ECPv6.15.20//NONSGML v1.0//EN
CALSCALE:GREGORIAN
METHOD:PUBLISH
X-ORIGINAL-URL:https://initiative-burgholzhof.de
X-WR-CALDESC:Veranstaltungen für B&uuml;rgerinitiative Burgholzhof
REFRESH-INTERVAL;VALUE=DURATION:PT1H
X-Robots-Tag:noindex
X-PUBLISHED-TTL:PT1H
BEGIN:VTIMEZONE
TZID:Europe/Berlin
BEGIN:DAYLIGHT
TZOFFSETFROM:+0100
TZOFFSETTO:+0200
TZNAME:CEST
DTSTART:20250330T010000
END:DAYLIGHT
BEGIN:STANDARD
TZOFFSETFROM:+0200
TZOFFSETTO:+0100
TZNAME:CET
DTSTART:20251026T010000
END:STANDARD
BEGIN:DAYLIGHT
TZOFFSETFROM:+0100
TZOFFSETTO:+0200
TZNAME:CEST
DTSTART:20260329T010000
END:DAYLIGHT
BEGIN:STANDARD
TZOFFSETFROM:+0200
TZOFFSETTO:+0100
TZNAME:CET
DTSTART:20261025T010000
END:STANDARD
BEGIN:DAYLIGHT
TZOFFSETFROM:+0100
TZOFFSETTO:+0200
TZNAME:CEST
DTSTART:20270328T010000
END:DAYLIGHT
BEGIN:STANDARD
TZOFFSETFROM:+0200
TZOFFSETTO:+0100
TZNAME:CET
DTSTART:20271031T010000
END:STANDARD
END:VTIMEZONE
BEGIN:VEVENT
DTSTART;TZID=Europe/Berlin:20260701T180000
DTEND;TZID=Europe/Berlin:20260701T200000
DTSTAMP:20260421T121839
CREATED:20260129T195351Z
LAST-MODIFIED:20260129T195351Z
UID:2352-1782928800-1782936000@initiative-burgholzhof.de
SUMMARY:Tischtennis für alle
DESCRIPTION:jeden Mittwoch\nvon 18 bis 20 Uhr\nim Bürgerhaus\, James-F.-Byrnes-Str. 37\, EG\, Eingang A
URL:https://initiative-burgholzhof.de/event/tischtennis-fuer-alle-66/
LOCATION:Bürgerhaus\, James-F.-Byrnes-Str. 37
END:VEVENT
BEGIN:VEVENT
DTSTART;TZID=Europe/Berlin:20260703T153000
DTEND;TZID=Europe/Berlin:20260703T180000
DTSTAMP:20260421T121839
CREATED:20260129T202426Z
LAST-MODIFIED:20260206T002248Z
UID:2375-1783092600-1783101600@initiative-burgholzhof.de
SUMMARY:🍰 Nachbarschaftscafé "Burgholzhof-Treff"☕
DESCRIPTION:Schauen Sie doch einfach herein und genießen Sie die Zeit bei Kaffee/Tee und leckeren selbst gebackenen Kuchen. \nWann?\nAlle zwei Wochen freitags\n(in den ungeraden Wochen)\nvon 15:30 bis 18:00 Uhr \nWo?\nIm Ökumenischen Zentrum\,\nMahatma-Gandhi-Str. 7 \nDas Café freut sich auf\nIhren/Euren Besuch. \nSpenden sind stets willkommen. \n  \nin Zusammenarbeit mit dem Ökumenischen Zentrum Burgholzhof
URL:https://initiative-burgholzhof.de/event/%f0%9f%8d%b0-nachbarschaftscafe-burgholzhof-treff%e2%98%95-6/
LOCATION:Ökumenisches Zentrum Burgholzhof\, Mahatma-Gandhi-Str. 7\, Stuttgart\, Baden-Württemberg\, 70376\, Germany
CATEGORIES:Nachbarschaftscafé "Burgholzhof-Treff"
END:VEVENT
BEGIN:VEVENT
DTSTART;TZID=Europe/Berlin:20260708T180000
DTEND;TZID=Europe/Berlin:20260708T200000
DTSTAMP:20260421T121839
CREATED:20260129T192356Z
LAST-MODIFIED:20260129T192356Z
UID:2328-1783533600-1783540800@initiative-burgholzhof.de
SUMMARY:Tischtennis für alle
DESCRIPTION:jeden Mittwoch\nvon 18 bis 20 Uhr\nim Bürgerhaus\, James-F.-Byrnes-Str. 37\, EG\, Eingang A
URL:https://initiative-burgholzhof.de/event/tischtennis-fuer-alle-61/
LOCATION:Bürgerhaus\, James-F.-Byrnes-Str. 37
END:VEVENT
BEGIN:VEVENT
DTSTART;TZID=Europe/Berlin:20260713T190000
DTEND;TZID=Europe/Berlin:20260713T210000
DTSTAMP:20260421T121839
CREATED:20260122T204844Z
LAST-MODIFIED:20260122T214620Z
UID:2241-1783969200-1783976400@initiative-burgholzhof.de
SUMMARY:Bürgertreff
DESCRIPTION:
URL:https://initiative-burgholzhof.de/event/buergertreff-17/
LOCATION:Bürgerhaus\, James-F.-Byrnes-Str. 37
END:VEVENT
BEGIN:VEVENT
DTSTART;TZID=Europe/Berlin:20260715T180000
DTEND;TZID=Europe/Berlin:20260715T200000
DTSTAMP:20260421T121839
CREATED:20260129T192611Z
LAST-MODIFIED:20260129T192611Z
UID:2330-1784138400-1784145600@initiative-burgholzhof.de
SUMMARY:Tischtennis für alle
DESCRIPTION:jeden Mittwoch\nvon 18 bis 20 Uhr\nim Bürgerhaus\, James-F.-Byrnes-Str. 37\, EG\, Eingang A
URL:https://initiative-burgholzhof.de/event/tischtennis-fuer-alle-63/
LOCATION:Bürgerhaus\, James-F.-Byrnes-Str. 37
END:VEVENT
BEGIN:VEVENT
DTSTART;TZID=Europe/Berlin:20260717T153000
DTEND;TZID=Europe/Berlin:20260717T180000
DTSTAMP:20260421T121839
CREATED:20260129T202459Z
LAST-MODIFIED:20260206T002201Z
UID:2377-1784302200-1784311200@initiative-burgholzhof.de
SUMMARY:🍰 Nachbarschaftscafé "Burgholzhof-Treff"☕
DESCRIPTION:Schauen Sie doch einfach herein und genießen Sie die Zeit bei Kaffee/Tee und leckeren selbst gebackenen Kuchen. \nWann?\nAlle zwei Wochen freitags\n(in den ungeraden Wochen)\nvon 15:30 bis 18:00 Uhr \nWo?\nIm Ökumenischen Zentrum\,\nMahatma-Gandhi-Str. 7 \nDas Café freut sich auf\nIhren/Euren Besuch. \nSpenden sind stets willkommen. \n  \nin Zusammenarbeit mit dem Ökumenischen Zentrum Burgholzhof
URL:https://initiative-burgholzhof.de/event/%f0%9f%8d%b0-nachbarschaftscafe-burgholzhof-treff%e2%98%95-7/
LOCATION:Ökumenisches Zentrum Burgholzhof\, Mahatma-Gandhi-Str. 7\, Stuttgart\, Baden-Württemberg\, 70376\, Germany
CATEGORIES:Nachbarschaftscafé "Burgholzhof-Treff"
END:VEVENT
BEGIN:VEVENT
DTSTART;TZID=Europe/Berlin:20260722T180000
DTEND;TZID=Europe/Berlin:20260722T200000
DTSTAMP:20260421T121839
CREATED:20260129T192440Z
LAST-MODIFIED:20260129T192440Z
UID:2332-1784743200-1784750400@initiative-burgholzhof.de
SUMMARY:Tischtennis für alle
DESCRIPTION:jeden Mittwoch\nvon 18 bis 20 Uhr\nim Bürgerhaus\, James-F.-Byrnes-Str. 37\, EG\, Eingang A
URL:https://initiative-burgholzhof.de/event/tischtennis-fuer-alle-62/
LOCATION:Bürgerhaus\, James-F.-Byrnes-Str. 37
END:VEVENT
BEGIN:VEVENT
DTSTART;TZID=Europe/Berlin:20260729T180000
DTEND;TZID=Europe/Berlin:20260729T200000
DTSTAMP:20260421T121839
CREATED:20260129T195415Z
LAST-MODIFIED:20260129T195415Z
UID:2354-1785348000-1785355200@initiative-burgholzhof.de
SUMMARY:Tischtennis für alle
DESCRIPTION:jeden Mittwoch\nvon 18 bis 20 Uhr\nim Bürgerhaus\, James-F.-Byrnes-Str. 37\, EG\, Eingang A
URL:https://initiative-burgholzhof.de/event/tischtennis-fuer-alle-67/
LOCATION:Bürgerhaus\, James-F.-Byrnes-Str. 37
END:VEVENT
BEGIN:VEVENT
DTSTART;TZID=Europe/Berlin:20260731T153000
DTEND;TZID=Europe/Berlin:20260731T180000
DTSTAMP:20260421T121839
CREATED:20260129T202535Z
LAST-MODIFIED:20260206T002117Z
UID:2379-1785511800-1785520800@initiative-burgholzhof.de
SUMMARY:🍰 Nachbarschaftscafé "Burgholzhof-Treff"☕
DESCRIPTION:Schauen Sie doch einfach herein und genießen Sie die Zeit bei Kaffee/Tee und leckeren selbst gebackenen Kuchen. \nWann?\nAlle zwei Wochen freitags\n(in den ungeraden Wochen)\nvon 15:30 bis 18:00 Uhr \nWo?\nIm Ökumenischen Zentrum\,\nMahatma-Gandhi-Str. 7 \nDas Café freut sich auf\nIhren/Euren Besuch. \nSpenden sind stets willkommen. \n  \nin Zusammenarbeit mit dem Ökumenischen Zentrum Burgholzhof
URL:https://initiative-burgholzhof.de/event/%f0%9f%8d%b0-nachbarschaftscafe-burgholzhof-treff%e2%98%95-8/
LOCATION:Ökumenisches Zentrum Burgholzhof\, Mahatma-Gandhi-Str. 7\, Stuttgart\, Baden-Württemberg\, 70376\, Germany
CATEGORIES:Nachbarschaftscafé "Burgholzhof-Treff"
END:VEVENT
END:VCALENDAR