BEGIN:VCALENDAR
VERSION:2.0
PRODID:-//B&uuml;rgerinitiative Burgholzhof - ECPv6.15.20//NONSGML v1.0//EN
CALSCALE:GREGORIAN
METHOD:PUBLISH
X-ORIGINAL-URL:https://initiative-burgholzhof.de
X-WR-CALDESC:Veranstaltungen für B&uuml;rgerinitiative Burgholzhof
REFRESH-INTERVAL;VALUE=DURATION:PT1H
X-Robots-Tag:noindex
X-PUBLISHED-TTL:PT1H
BEGIN:VTIMEZONE
TZID:Europe/Berlin
BEGIN:DAYLIGHT
TZOFFSETFROM:+0100
TZOFFSETTO:+0200
TZNAME:CEST
DTSTART:20240331T010000
END:DAYLIGHT
BEGIN:STANDARD
TZOFFSETFROM:+0200
TZOFFSETTO:+0100
TZNAME:CET
DTSTART:20241027T010000
END:STANDARD
BEGIN:DAYLIGHT
TZOFFSETFROM:+0100
TZOFFSETTO:+0200
TZNAME:CEST
DTSTART:20250330T010000
END:DAYLIGHT
BEGIN:STANDARD
TZOFFSETFROM:+0200
TZOFFSETTO:+0100
TZNAME:CET
DTSTART:20251026T010000
END:STANDARD
BEGIN:DAYLIGHT
TZOFFSETFROM:+0100
TZOFFSETTO:+0200
TZNAME:CEST
DTSTART:20260329T010000
END:DAYLIGHT
BEGIN:STANDARD
TZOFFSETFROM:+0200
TZOFFSETTO:+0100
TZNAME:CET
DTSTART:20261025T010000
END:STANDARD
END:VTIMEZONE
BEGIN:VEVENT
DTSTART;TZID=Europe/Berlin:20250214T153000
DTEND;TZID=Europe/Berlin:20250214T180000
DTSTAMP:20260424T144146
CREATED:20250106T012348Z
LAST-MODIFIED:20250123T203641Z
UID:1074-1739547000-1739556000@initiative-burgholzhof.de
SUMMARY:Burgholzhof - Treff  / Nachbarschaftscafé ☕
DESCRIPTION:Ökumenisches Zentrum Burgholzhof\nMahatma-Gandhi-Straße 7\, 70376 Stuttgart \n \n15:30 – 18:00 Uhr \nim Ökumenischen-Zentrum (parallel zum Bücherbus) \nmit Kaffee/Tee und selbst gebackenem Kuchen statt. \nKuchenspenden sind immer herzlich willkommen. \n in Zusammenarbeit mit dem Ökumenischen Zentrum Burgholzhof
URL:https://initiative-burgholzhof.de/event/burgholz-treff-cafe-nachbarschaftscafe/
LOCATION:Ökumenisches Zentrum\, Mahatma-Gandhi-Straße 7
CATEGORIES:Nachbarschaftscafé "Burgholzhof-Treff"
END:VEVENT
BEGIN:VEVENT
DTSTART;TZID=Europe/Berlin:20250228T153000
DTEND;TZID=Europe/Berlin:20250228T180000
DTSTAMP:20260424T144146
CREATED:20250106T012500Z
LAST-MODIFIED:20250217T183703Z
UID:1091-1740756600-1740765600@initiative-burgholzhof.de
SUMMARY:Burgholzhof - Treff  / Nachbarschaftscafé ☕
DESCRIPTION:Ökumenisches Zentrum Burgholzhof\nMahatma-Gandhi-Straße 7\, 70376 Stuttgart \n \n15:30 – 18:00 Uhr \nim Ökumenischen-Zentrum (parallel zum Bücherbus) \nmit Kaffee/Tee und selbst gebackenem Kuchen statt. \nKuchenspenden sind immer herzlich willkommen. \n in Zusammenarbeit mit dem Ökumenischen Zentrum Burgholzhof
URL:https://initiative-burgholzhof.de/event/burgholz-treff-nachbarschaftscafe-4/
LOCATION:Ökumenisches Zentrum\, Mahatma-Gandhi-Straße 7
CATEGORIES:Nachbarschaftscafé "Burgholzhof-Treff"
END:VEVENT
END:VCALENDAR