BEGIN:VCALENDAR
VERSION:2.0
PRODID:-//B&uuml;rgerinitiative Burgholzhof - ECPv6.15.20//NONSGML v1.0//EN
CALSCALE:GREGORIAN
METHOD:PUBLISH
X-ORIGINAL-URL:https://initiative-burgholzhof.de
X-WR-CALDESC:Veranstaltungen für B&uuml;rgerinitiative Burgholzhof
REFRESH-INTERVAL;VALUE=DURATION:PT1H
X-Robots-Tag:noindex
X-PUBLISHED-TTL:PT1H
BEGIN:VTIMEZONE
TZID:Europe/Berlin
BEGIN:DAYLIGHT
TZOFFSETFROM:+0100
TZOFFSETTO:+0200
TZNAME:CEST
DTSTART:20240331T010000
END:DAYLIGHT
BEGIN:STANDARD
TZOFFSETFROM:+0200
TZOFFSETTO:+0100
TZNAME:CET
DTSTART:20241027T010000
END:STANDARD
BEGIN:DAYLIGHT
TZOFFSETFROM:+0100
TZOFFSETTO:+0200
TZNAME:CEST
DTSTART:20250330T010000
END:DAYLIGHT
BEGIN:STANDARD
TZOFFSETFROM:+0200
TZOFFSETTO:+0100
TZNAME:CET
DTSTART:20251026T010000
END:STANDARD
BEGIN:DAYLIGHT
TZOFFSETFROM:+0100
TZOFFSETTO:+0200
TZNAME:CEST
DTSTART:20260329T010000
END:DAYLIGHT
BEGIN:STANDARD
TZOFFSETFROM:+0200
TZOFFSETTO:+0100
TZNAME:CET
DTSTART:20261025T010000
END:STANDARD
END:VTIMEZONE
BEGIN:VEVENT
DTSTART;TZID=Europe/Berlin:20250411T153000
DTEND;TZID=Europe/Berlin:20250411T180000
DTSTAMP:20260422T062441
CREATED:20250404T103220Z
LAST-MODIFIED:20250404T165207Z
UID:1526-1744385400-1744394400@initiative-burgholzhof.de
SUMMARY:Burgholzhof – Treff / Nachbarschaftscafé ☕
DESCRIPTION:Mahatma-Gandhi-Straße 7\, 70376 Stuttgart \n \n15:30 – 18:00 Uhr \nim Ökumenischen-Zentrum (parallel zum Bücherbus) \nmit Kaffee/Tee und selbst gebackenem Kuchen statt. \nKuchenspenden sind immer herzlich willkommen. \nin Zusammenarbeit mit dem Ökumenischen Zentrum Burgholzhof \n 
URL:https://initiative-burgholzhof.de/event/burgholzhof-treff-nachbarschaftscafe-%e2%98%95/
LOCATION:Ökumenisches Zentrum Burgholzhof\, Mahatma-Gandhi-Str. 7\, Stuttgart\, Baden-Württemberg\, 70376\, Germany
CATEGORIES:Burgholzhof - Treff / Nachbaschafscafé
END:VEVENT
BEGIN:VEVENT
DTSTART;TZID=Europe/Berlin:20250425T153000
DTEND;TZID=Europe/Berlin:20250425T180000
DTSTAMP:20260422T062441
CREATED:20250404T103637Z
LAST-MODIFIED:20250404T165544Z
UID:1529-1745595000-1745604000@initiative-burgholzhof.de
SUMMARY:Burgholzhof – Treff / Nachbarschaftscafé ☕
DESCRIPTION:Mahatma-Gandhi-Straße 7\, 70376 Stuttgart \n \n15:30 – 18:00 Uhr \nim Ökumenischen-Zentrum (parallel zum Bücherbus) \nmit Kaffee/Tee und selbst gebackenem Kuchen statt. \nKuchenspenden sind immer herzlich willkommen. \nin Zusammenarbeit mit dem Ökumenischen Zentrum Burgholzhof \n 
URL:https://initiative-burgholzhof.de/event/burgholzhof-treff-nachbarschaftscafe-%e2%98%95-2/
LOCATION:Ökumenisches Zentrum Burgholzhof\, Mahatma-Gandhi-Str. 7\, Stuttgart\, Baden-Württemberg\, 70376\, Germany
CATEGORIES:Burgholzhof - Treff / Nachbaschafscafé
END:VEVENT
END:VCALENDAR